BEGIN:VCALENDAR
VERSION:2.0
PRODID:-//Gravatt Camp &amp; Conference Center - ECPv6.15.18//NONSGML v1.0//EN
CALSCALE:GREGORIAN
METHOD:PUBLISH
X-WR-CALNAME:Gravatt Camp &amp; Conference Center
X-ORIGINAL-URL:https://campgravatt.org
X-WR-CALDESC:Events for Gravatt Camp &amp; Conference Center
REFRESH-INTERVAL;VALUE=DURATION:PT1H
X-Robots-Tag:noindex
X-PUBLISHED-TTL:PT1H
BEGIN:VTIMEZONE
TZID:UTC
BEGIN:STANDARD
TZOFFSETFROM:+0000
TZOFFSETTO:+0000
TZNAME:UTC
DTSTART:20250101T000000
END:STANDARD
END:VTIMEZONE
BEGIN:VTIMEZONE
TZID:America/New_York
BEGIN:DAYLIGHT
TZOFFSETFROM:-0500
TZOFFSETTO:-0400
TZNAME:EDT
DTSTART:20250309T070000
END:DAYLIGHT
BEGIN:STANDARD
TZOFFSETFROM:-0400
TZOFFSETTO:-0500
TZNAME:EST
DTSTART:20251102T060000
END:STANDARD
BEGIN:DAYLIGHT
TZOFFSETFROM:-0500
TZOFFSETTO:-0400
TZNAME:EDT
DTSTART:20260308T070000
END:DAYLIGHT
BEGIN:STANDARD
TZOFFSETFROM:-0400
TZOFFSETTO:-0500
TZNAME:EST
DTSTART:20261101T060000
END:STANDARD
BEGIN:DAYLIGHT
TZOFFSETFROM:-0500
TZOFFSETTO:-0400
TZNAME:EDT
DTSTART:20270314T070000
END:DAYLIGHT
BEGIN:STANDARD
TZOFFSETFROM:-0400
TZOFFSETTO:-0500
TZNAME:EST
DTSTART:20271107T060000
END:STANDARD
END:VTIMEZONE
BEGIN:VEVENT
DTSTART;TZID=UTC:20260502T173000
DTEND;TZID=UTC:20260503T120000
DTSTAMP:20260423T042525
CREATED:20240812T184649Z
LAST-MODIFIED:20260423T035305Z
UID:264841-1777743000-1777809600@campgravatt.org
SUMMARY:Under the Tent
DESCRIPTION:
URL:https://campgravatt.org/event/under-the-tent/
LOCATION:Gravatt Camp and Conference Center\, 1006 Camp Gravatt Rd\, Aiken\, SC\, 29805
ATTACH;FMTTYPE=image/png:https://campgravatt.org/wp-content/uploads/2024/08/UTT-2026-5.png
END:VEVENT
BEGIN:VEVENT
DTSTART;TZID=America/New_York:20260724T160000
DTEND;TZID=America/New_York:20260726T120000
DTSTAMP:20260423T042525
CREATED:20240709T182001Z
LAST-MODIFIED:20260415T180631Z
UID:264773-1784908800-1785067200@campgravatt.org
SUMMARY:Summer Staff Alumni Weekend 2026
DESCRIPTION:Did you spend a summer working under the pines? \nCome back for a visit and blob\, slide\, or just swim in the lake.  Check out and conquer ropes elements.  Tie-dye a shirt.  Sing by the campfire.  We might even have Gravatt Square Sundaes. We will have all the fun camp activities – and a new night activity! Plan to spend a weekend with old friends at Gravatt this summer. \nChoose from several overnight options. Conference side accommodations (Cole Lodge and cottage rooms) include electricity\, air-conditioning\, and linens. Camp accommodations (tents and cabins) will not include electricity\, AC\, or linens. Please plan accordingly. \nIf you are unable to spend the whole weekend at Gravatt plan to join us for brunch. A separate ticket for brunch is available. \nIf you are a fisherman you may also register for our Gravatt Fishing Tournament which will be held that Saturday morning. *Please note this is a separate event registration. \nRegister today and join us July 24-26.
URL:https://campgravatt.org/event/summer-staff-alumni-weekend-2026/
LOCATION:Gravatt Camp and Conference Center\, 1006 Camp Gravatt Rd\, Aiken\, SC\, 29805
ATTACH;FMTTYPE=image/jpeg:https://campgravatt.org/wp-content/uploads/2024/07/alumni-eventy-img-scaled.jpg
END:VEVENT
BEGIN:VEVENT
DTSTART;TZID=UTC:20260725T073000
DTEND;TZID=UTC:20260725T123000
DTSTAMP:20260423T042525
CREATED:20250521T170331Z
LAST-MODIFIED:20260415T180928Z
UID:266127-1784964600-1784982600@campgravatt.org
SUMMARY:Gravatt Fishing Tournament
DESCRIPTION:Grab a teammate and head to Gravatt to catch a great time! Fish from the bank\, a Gravatt canoe\, or your own canoe or boat (trolling motors only). This tournament will be catch and release. Enjoy a day on the water\, a delicious lunch\, and fun prizes! \nSchedule: \n7:30am     Registration \n8:00am     Fishing Begins \n12:30pm    Fishing Ends\nAwards and Lunch
URL:https://campgravatt.org/event/gravatt-fishing-tournament/
LOCATION:Gravatt Camp and Conference Center\, 1006 Camp Gravatt Rd\, Aiken\, SC\, 29805
ATTACH;FMTTYPE=image/jpeg:https://campgravatt.org/wp-content/uploads/2025/05/fishing-tourney-event-img-scaled.jpeg
END:VEVENT
END:VCALENDAR